BEGIN:VCALENDAR
VERSION:2.0
PRODID:-//Catholic Information Center - ECPv6.9.0//NONSGML v1.0//EN
CALSCALE:GREGORIAN
METHOD:PUBLISH
X-WR-CALNAME:Catholic Information Center
X-ORIGINAL-URL:https://cicdc.org
X-WR-CALDESC:Events for Catholic Information Center
REFRESH-INTERVAL;VALUE=DURATION:PT1H
X-Robots-Tag:noindex
X-PUBLISHED-TTL:PT1H
BEGIN:VTIMEZONE
TZID:America/New_York
BEGIN:DAYLIGHT
TZOFFSETFROM:-0500
TZOFFSETTO:-0400
TZNAME:EDT
DTSTART:20260308T070000
END:DAYLIGHT
BEGIN:STANDARD
TZOFFSETFROM:-0400
TZOFFSETTO:-0500
TZNAME:EST
DTSTART:20261101T060000
END:STANDARD
END:VTIMEZONE
BEGIN:VEVENT
DTSTART;TZID=America/New_York:20260505T183000
DTEND;TZID=America/New_York:20260505T200000
DTSTAMP:20260422T102529
CREATED:20260325T192758Z
LAST-MODIFIED:20260402T194349Z
UID:5786-1778005800-1778011200@cicdc.org
SUMMARY:El Araj (Bethsaida) Excavation: The Lost City of the Apostles Discovered
DESCRIPTION:In recent years\, archeologists have made a monumental\, once-in-a-life-time discovery at a significant archeological excavation in northern Israel in Galilee. The site is called El Araj. It was theorized to be biblical Bethsaida\, the ancient home to Saint Peter\, the “Chief of the Apostles and Keeper of the Keys of Heaven\,” as well as his brother St. Andrew and St. Phillip. \nSo what is this evidence that proves this is Bethsaida? \nOn Tuesday\, March 5 at 6:30 PM EDT\, the CIC welcomes the Academic Director of the El Araj Excavation Project\, Dr. R. Steven Notley\, for a presentation. Dr. Notley will walk us through the finds by his team at El Araj and the evidence that this town is the home of St. Peter and the place where Jesus performed a number of His miracles\, including the feeding of the 5\,000 and walking on water. \nIntroducing Dr. Notley will be Melissa Overmyer\, a dynamic Catholic evangelizer\, who had the honor of digging with the archeologists one summer at El Araj. Melissa will share her personal testimony as a Catholic encountering these finds in Bethsaida. \nThis program will be offered both in-person and virtually through a livestream. \nRSVP to join this program in-person or virtually through the livestream. \n___________________\nMay 5th Schedule: \n\n6:15 PM: Doors open for check-in\n6:30 PM: Presentation with Dr. Steven Notley and Melissa Overmyer (This portion of the evening is offered for both in-person and livestream participation.)\n7:30 PM: Light happy (half) hour social\n8:00 PM: Evening concludes\n\n\n\n 
URL:https://cicdc.org/event/el-araj-bethsaida/
LOCATION:Catholic Information Center\, 1501 K Street NW\, Washington\, DC\, 20005\, United States
CATEGORIES:Book Launches,CIC Events
ATTACH;FMTTYPE=image/png:https://cicdc.org/wp-content/uploads/El-Araj-Bethsaida.png
END:VEVENT
END:VCALENDAR