BEGIN:VCALENDAR
VERSION:2.0
PRODID:-//Catholic Information Center - ECPv6.9.0//NONSGML v1.0//EN
CALSCALE:GREGORIAN
METHOD:PUBLISH
X-ORIGINAL-URL:https://cicdc.org
X-WR-CALDESC:Events for Catholic Information Center
REFRESH-INTERVAL;VALUE=DURATION:PT1H
X-Robots-Tag:noindex
X-PUBLISHED-TTL:PT1H
BEGIN:VTIMEZONE
TZID:America/New_York
BEGIN:DAYLIGHT
TZOFFSETFROM:-0500
TZOFFSETTO:-0400
TZNAME:EDT
DTSTART:20260308T070000
END:DAYLIGHT
BEGIN:STANDARD
TZOFFSETFROM:-0400
TZOFFSETTO:-0500
TZNAME:EST
DTSTART:20261101T060000
END:STANDARD
END:VTIMEZONE
BEGIN:VEVENT
DTSTART;TZID=America/New_York:20260501T100000
DTEND;TZID=America/New_York:20260501T110000
DTSTAMP:20260422T080027
CREATED:20260212T175302Z
LAST-MODIFIED:20260410T185206Z
UID:5705-1777629600-1777633200@cicdc.org
SUMMARY:Living the Blessed Life with Melissa Overmyer (Morning Session)
DESCRIPTION:You are invited to join evangelist\, writer\, and speaker\, Melissa Overmyer\, for a presentation of her book\, Living the Blessed Life: Seven Keys to Trusting God and Embracing Joy\, on Friday morning\, May 1\, 2026 at 10:00 AM EDT. After the talk\, stay for a booksigning with Melissa. Living the Blessed Life: Seven Keys to Trusting God and Embracing Joy will be available for purchase at the CIC bookstore. \nThe morning-time talk is for those with alternative work schedules from the “normal” 9-to-5. The session will include a coffee social\, and will be held in-person only. \n___________________\nMay 1st Schedule: \n\n9:30 AM: Doors open for check-in and coffee social\n10:00 AM: Presentation by Melissa Overmyer\n11:00 AM: Buy Melissa’s book and get it signed\n\n\nAbout the Book:\n“Turn on your TV\, surf the web\, or read a book; everyone is searching for happiness\, and everyone is engaged in some way with a strategy to acquire it. Melissa Overmyer highlights seven ways\, or seven portals\, if you will\, to experience and live the blessed life\, and discover what the world is searching for\, but even better. Melissa’s message is accessible\, practical\, scriptural\, and doable.”\n–Jeff Cavins \nIn a world that promises happiness through success\, relationships\, and comfort\, many still find themselves restless and unfulfilled. Living the Blessed Life reveals a deeper truth affirmed by both science and the Catholic faith: lasting happiness flows from love\, and love finds its source in God. \nDrawing from modern research on happiness\, Scripture\, the teachings of the Catholic Church\, and the lives of the saints\, author Melissa Overmyer unveils seven transformative keys that will deepen your faith and fill your life with authentic joy. Through the “Blessed” framework—Beauty\, Laughter\, Encounter\, Song\, Silence\, Engage\, and Distinct—you’ll discover how to: \n\nUncover how deeply God loves you and how this changes everything\nChoose joy as a daily practice rooted in faith and trust in God\nLearn to trust God’s plan even in difficult circumstances\nNurture your body\, mind\, and spirit through habits that honor God and support true wellness\nExperience deep enjoyment\, satisfaction\, and meaning in everyday moments\nEmbrace practices rooted in Scripture and Church teaching\n\nLiving the Blessed Life is a seven-week personal retreat designed to leave you more joyful and grounded\, with daily reflections\, journaling space\, and morning and evening prayer prompts enriched by timeless wisdom from Scripture and the saints. \nBlending practical tools with deep spiritual truth\, this book offers a clear path for anyone seeking to deepen their faith or rediscover the authentic joy and happiness their heart truly desires. \nLiving Your Blessed Life is available for purchase at the Catholic Information Center’s bookstore.
URL:https://cicdc.org/event/living-the-blessed-life-morning/
LOCATION:Catholic Information Center\, 1501 K Street NW\, Washington\, DC\, 20005\, United States
CATEGORIES:Book Launches,CIC Events
ATTACH;FMTTYPE=image/png:https://cicdc.org/wp-content/uploads/Living-the-Blessed-Life-Morning-Session-1.png
END:VEVENT
END:VCALENDAR