BEGIN:VCALENDAR
VERSION:2.0
PRODID:-//Catholic Information Center - ECPv6.9.0//NONSGML v1.0//EN
CALSCALE:GREGORIAN
METHOD:PUBLISH
X-WR-CALNAME:Catholic Information Center
X-ORIGINAL-URL:https://cicdc.org
X-WR-CALDESC:Events for Catholic Information Center
REFRESH-INTERVAL;VALUE=DURATION:PT1H
X-Robots-Tag:noindex
X-PUBLISHED-TTL:PT1H
BEGIN:VTIMEZONE
TZID:America/New_York
BEGIN:DAYLIGHT
TZOFFSETFROM:-0500
TZOFFSETTO:-0400
TZNAME:EDT
DTSTART:20260308T070000
END:DAYLIGHT
BEGIN:STANDARD
TZOFFSETFROM:-0400
TZOFFSETTO:-0500
TZNAME:EST
DTSTART:20261101T060000
END:STANDARD
END:VTIMEZONE
BEGIN:VEVENT
DTSTART;TZID=America/New_York:20260424T150000
DTEND;TZID=America/New_York:20260424T163000
DTSTAMP:20260424T054730
CREATED:20260211T152546Z
LAST-MODIFIED:20260410T185625Z
UID:5680-1777042800-1777048200@cicdc.org
SUMMARY:The Shroud of Turin in the Third Millennium?
DESCRIPTION:We invite you to join us on April 24 at 3:00 PM EDT as Dr. Cheryl White presents her latest book\, and explores how the Shroud of Turin blends historical\, scientific\, philosophical\, and theological inquiry to challenge assumptions about what we can truly know regarding the artifact’s origin\, significance\, and meaning. \nRSVP to join us in-person or virtually through the livestream. \nThe Shroud of Turin in the Third Millennium? will be available to purchase at the CIC’s bookstore. \n\n\n“The Shroud of Turin is an artifact unlike any other that presents numerous philosophical challenges to what we can know and how we can know it. This book explores the Shroud in a way unlike any other work – for it invites the inquirer to contemplate not only the image on the Shroud\, but how we can come to certainty of knowledge and what that knowledge might mean. Starting from a simple length of linen\, Cheryl White explores where archaeological enigma\, philosophical inquiry\, and theological mystery meet. Shunning sensationalism\, her book refuses to take sides for or against the Shroud of Turin’s authenticity. White challenges our assumptions: the naïve trust in pre-packaged scientific verdicts—radiocarbon dating among them—as well as the temptation to proclaim an ultimate proof of the Resurrection. With clarity and humility\, she invites us to contemplate the truth the Shroud of Turin reflects—a mirror of the Gospel.”\n\n-Tristan Casabianca\, Shroud of Turin Scholar and Researcher \n\n___________________ \n\n\n“Like an impartial umpire\, Dr. White fairly assesses various indirect references from the past and takes us to school on how the historical method really works. She applies the same objective analysis to the vast amount of scientific investigation and what science reveals or fails to reveal. The reader will be enlightened by learning things not previously known or understood\, humbled by the objective challenge of our own suppositions\, and yet more enthralled than ever with the mystery\, meaning and message of the Shroud and what it portends for the future.” \n\n-Russ Breault\, President of Shroud of Turin Education Project\, Inc. and Author of “Shroud Encounter”\n\n___________________ \n\n“Dr. White\, in a book unlike any other on the Shroud\, masterly provides unique insights into historical\, theological\, scientific and epistemological aspects of the intriguing mystery of the Shroud of Turin\, a cloth with profound implications for faith\, reason\, and science. This book needs to be in the collection of any serious researcher of the Shroud.”\n\n– Joe Marino\, President of Shroud of Turin Education and Research Association\n___________________\nApril 24th Schedule: \n\n2:45 PM Check-in\n3:00 PM Book talk by Dr. Cheryl White\n4:00 PM Booksigning and coffee social\n4:30 PM Event concludes
URL:https://cicdc.org/event/the-shroud-of-turin-in-the-third-millenium/
LOCATION:Catholic Information Center\, 1501 K Street NW\, Washington\, DC\, 20005\, United States
CATEGORIES:Book Launches,CIC Events
ATTACH;FMTTYPE=image/png:https://cicdc.org/wp-content/uploads/Seeking-the-Spirit-Within-1.png
END:VEVENT
END:VCALENDAR